BEGIN:VCALENDAR
VERSION:2.0
PRODID:-//Plone.org//NONSGML plone.app.event//EN
X-WR-TIMEZONE:Europe/Madrid
BEGIN:VEVENT
SUMMARY:13 mujeres y la Bauhaus
DTSTART;TZID=Europe/Madrid;VALUE=DATE-TIME:20210113T100000
DTEND;TZID=Europe/Madrid;VALUE=DATE-TIME:20210131T140000
DTSTAMP;VALUE=DATE-TIME:20260423T083034Z
UID:b84152378bee4458805a90f12777a3b1@icas.sevilla.org
CATEGORIES:Exposiciones
CREATED;VALUE=DATE-TIME:20201221T103337Z
LAST-MODIFIED;VALUE=DATE-TIME:20231006T073009Z
URL:https://icas.sevilla.org/agenda/13-mujeres-bauhaus
END:VEVENT
BEGIN:VTIMEZONE
TZID:Europe/Madrid
X-LIC-LOCATION:Europe/Madrid
BEGIN:STANDARD
DTSTART;VALUE=DATE-TIME:20201025T020000
TZNAME:CET
TZOFFSETFROM:+0200
TZOFFSETTO:+0100
END:STANDARD
END:VTIMEZONE
END:VCALENDAR
