BEGIN:VCALENDAR
VERSION:2.0
PRODID:-//Plone.org//NONSGML plone.app.event//EN
X-WR-TIMEZONE:Europe/Madrid
BEGIN:VEVENT
SUMMARY:‘El muralismo de Santiago del Campo’
DTSTART;VALUE=DATE:20211024
DTEND;VALUE=DATE:20211025
DTSTAMP;VALUE=DATE-TIME:20260420T125244Z
UID:3f3c41111d9f4c838a8cda750174025c@icas.sevilla.org
CATEGORIES:Patrimonio
CREATED;VALUE=DATE-TIME:20210924T084954Z
DESCRIPTION:Salomé del Campo Peñalver\, licenciada en Bellas Artes.
LAST-MODIFIED;VALUE=DATE-TIME:20231006T075258Z
URL:https://icas.sevilla.org/agenda/2018el-muralismo-de-santiago-del-campo
 2019
END:VEVENT
END:VCALENDAR
