BEGIN:VCALENDAR
VERSION:2.0
PRODID:-//Plone.org//NONSGML plone.app.event//EN
X-WR-TIMEZONE:Europe/Madrid
BEGIN:VEVENT
SUMMARY:‘Lo orgánico en el arte y en la artesanía’
DTSTART;TZID=Europe/Madrid;VALUE=DATE-TIME:20220212T180000
DTEND;TZID=Europe/Madrid;VALUE=DATE-TIME:20220312T200000
DTSTAMP;VALUE=DATE-TIME:20260425T151703Z
UID:ac5c8aecebed4205bd15f6e05ed78758@icas.sevilla.org
CATEGORIES:Creación contemporánea,Exposiciones,Patrimonio
CREATED;VALUE=DATE-TIME:20220210T171517Z
LAST-MODIFIED;VALUE=DATE-TIME:20231006T075706Z
URL:https://icas.sevilla.org/agenda/2018lo-organico-en-el-arte-y-en-la-art
 esania2019
END:VEVENT
BEGIN:VTIMEZONE
TZID:Europe/Madrid
X-LIC-LOCATION:Europe/Madrid
BEGIN:STANDARD
DTSTART;VALUE=DATE-TIME:20211031T020000
TZNAME:CET
TZOFFSETFROM:+0200
TZOFFSETTO:+0100
END:STANDARD
END:VTIMEZONE
END:VCALENDAR
