BEGIN:VCALENDAR
VERSION:2.0
PRODID:-//Plone.org//NONSGML plone.app.event//EN
X-WR-TIMEZONE:Europe/Madrid
BEGIN:VEVENT
SUMMARY:‘Patrimonio histórico en Sevilla’\, de Fernando Amores
DTSTART;TZID=Europe/Madrid;VALUE=DATE-TIME:20231027T190000
DTEND;TZID=Europe/Madrid;VALUE=DATE-TIME:20231027T200000
DTSTAMP;VALUE=DATE-TIME:20260419T215832Z
UID:96c4feb5c6ea43c5ab6a2830e236be41@icas.sevilla.org
CATEGORIES:Conferencia
CREATED;VALUE=DATE-TIME:20231023T142412Z
LAST-MODIFIED;VALUE=DATE-TIME:20231023T142628Z
URL:https://icas.sevilla.org/agenda/2018patrimonio-historico-en-sevilla201
 9-de-fernando-amores
END:VEVENT
BEGIN:VTIMEZONE
TZID:Europe/Madrid
X-LIC-LOCATION:Europe/Madrid
BEGIN:DAYLIGHT
DTSTART;VALUE=DATE-TIME:20230326T030000
TZNAME:CEST
TZOFFSETFROM:+0100
TZOFFSETTO:+0200
END:DAYLIGHT
END:VTIMEZONE
END:VCALENDAR
