BEGIN:VCALENDAR
VERSION:2.0
PRODID:-//Plone.org//NONSGML plone.app.event//EN
X-WR-TIMEZONE:Europe/Madrid
BEGIN:VEVENT
SUMMARY:‘Vida y obra del ceramista Guillermo Moreno’
DTSTART;VALUE=DATE:20211016
DTEND;VALUE=DATE:20211017
DTSTAMP;VALUE=DATE-TIME:20260425T151622Z
UID:43229d87cd5049108e50ca49f8dd9823@icas.sevilla.org
CATEGORIES:Patrimonio
CREATED;VALUE=DATE-TIME:20210924T084826Z
DESCRIPTION:Ana María Moreno Fernández\, doctora en Medicina\, y catedr
 ática y profesora de Histología en la Facultad de Medicina de la Univers
 idad de Sevilla.
LAST-MODIFIED;VALUE=DATE-TIME:20231006T075257Z
URL:https://icas.sevilla.org/agenda/2018vida-y-obra-del-ceramista-guillerm
 o-moreno2019
END:VEVENT
END:VCALENDAR
