BEGIN:VCALENDAR
VERSION:2.0
PRODID:-//Plone.org//NONSGML plone.app.event//EN
X-WR-TIMEZONE:Europe/Madrid
BEGIN:VEVENT
SUMMARY:'247. Alonso Gil'
DTSTART;TZID=Europe/Madrid;VALUE=DATE-TIME:20230928T180000
DTEND;TZID=Europe/Madrid;VALUE=DATE-TIME:20231210T140000
DTSTAMP;VALUE=DATE-TIME:20260420T174523Z
UID:ad6bca197e6140f6a607532b241d650e@icas.sevilla.org
CATEGORIES:Exposición
CREATED;VALUE=DATE-TIME:20231102T122035Z
LAST-MODIFIED;VALUE=DATE-TIME:20231102T123120Z
URL:https://icas.sevilla.org/agenda/247-alonso-gil
END:VEVENT
BEGIN:VTIMEZONE
TZID:Europe/Madrid
X-LIC-LOCATION:Europe/Madrid
BEGIN:DAYLIGHT
DTSTART;VALUE=DATE-TIME:20230326T030000
TZNAME:CEST
TZOFFSETFROM:+0100
TZOFFSETTO:+0200
END:DAYLIGHT
BEGIN:STANDARD
DTSTART;VALUE=DATE-TIME:20231029T020000
TZNAME:CET
TZOFFSETFROM:+0200
TZOFFSETTO:+0100
END:STANDARD
END:VTIMEZONE
END:VCALENDAR
