BEGIN:VCALENDAR
VERSION:2.0
PRODID:-//Plone.org//NONSGML plone.app.event//EN
X-WR-TIMEZONE:Europe/Madrid
BEGIN:VEVENT
SUMMARY:29 Gala Mágica
DTSTART;TZID=Europe/Madrid;VALUE=DATE-TIME:20220109T180000
DTEND;TZID=Europe/Madrid;VALUE=DATE-TIME:20220109T193000
DTSTAMP;VALUE=DATE-TIME:20260425T190935Z
UID:01aa55a021524c048f853aebb8247fcc@icas.sevilla.org
CATEGORIES:Magia
CREATED;VALUE=DATE-TIME:20211213T083846Z
LAST-MODIFIED;VALUE=DATE-TIME:20231006T075548Z
URL:https://icas.sevilla.org/agenda/29-gala-magica
END:VEVENT
BEGIN:VTIMEZONE
TZID:Europe/Madrid
X-LIC-LOCATION:Europe/Madrid
BEGIN:STANDARD
DTSTART;VALUE=DATE-TIME:20211031T020000
TZNAME:CET
TZOFFSETFROM:+0200
TZOFFSETTO:+0100
END:STANDARD
END:VTIMEZONE
END:VCALENDAR
