BEGIN:VCALENDAR
VERSION:2.0
PRODID:-//Plone.org//NONSGML plone.app.event//EN
X-WR-TIMEZONE:Europe/Madrid
BEGIN:VEVENT
SUMMARY:31 Gala Mágica
DTSTART;TZID=Europe/Madrid;VALUE=DATE-TIME:20240113T180000
DTEND;TZID=Europe/Madrid;VALUE=DATE-TIME:20240113T200000
DTSTAMP;VALUE=DATE-TIME:20260419T143429Z
UID:ad5c36e8eaf24549a568dde2d3257c98@icas.sevilla.org
CATEGORIES:Magia
CREATED;VALUE=DATE-TIME:20231106T100506Z
LAST-MODIFIED;VALUE=DATE-TIME:20231211T100025Z
URL:https://icas.sevilla.org/agenda/31-gala-magica
END:VEVENT
BEGIN:VTIMEZONE
TZID:Europe/Madrid
X-LIC-LOCATION:Europe/Madrid
BEGIN:STANDARD
DTSTART;VALUE=DATE-TIME:20231029T020000
TZNAME:CET
TZOFFSETFROM:+0200
TZOFFSETTO:+0100
END:STANDARD
END:VTIMEZONE
END:VCALENDAR
