BEGIN:VCALENDAR
VERSION:2.0
PRODID:-//Plone.org//NONSGML plone.app.event//EN
X-WR-TIMEZONE:Europe/Madrid
BEGIN:VEVENT
SUMMARY:34 Ciclo "El Teatro y La Escuela - 24/25 Teatro Alameda
DTSTART;VALUE=DATE:20241013
DTEND;VALUE=DATE:20250524
DTSTAMP;VALUE=DATE-TIME:20260423T041942Z
UID:a4640d73827147fb9230d2f47b8fbced@icas.sevilla.org
CATEGORIES:Artes escénicas
CREATED;VALUE=DATE-TIME:20241011T114451Z
LAST-MODIFIED;VALUE=DATE-TIME:20250324T201837Z
URL:https://icas.sevilla.org/agenda/34-ciclo-el-teatro-y-la-escuela-24-25-
 teatro-alameda
END:VEVENT
END:VCALENDAR
