BEGIN:VCALENDAR
VERSION:2.0
PRODID:-//Plone.org//NONSGML plone.app.event//EN
X-WR-TIMEZONE:Europe/Madrid
BEGIN:VEVENT
SUMMARY:361 Grados. Cía. Proyecto Tránsito. Sevilla
DTSTART;TZID=Europe/Madrid;VALUE=DATE-TIME:20231216T180000
DTEND;TZID=Europe/Madrid;VALUE=DATE-TIME:20231216T190000
DTSTAMP;VALUE=DATE-TIME:20260423T141834Z
UID:5775019a96524f42a362ad5568014853@icas.sevilla.org
CATEGORIES:circo,teatro infantil y familiar
CREATED;VALUE=DATE-TIME:20231030T130106Z
DESCRIPTION:33 Ciclo EL TEATRO Y LA ESCUELA
LAST-MODIFIED;VALUE=DATE-TIME:20231103T125024Z
URL:https://icas.sevilla.org/agenda/361-grados-cia-proyecto-transito
END:VEVENT
BEGIN:VTIMEZONE
TZID:Europe/Madrid
X-LIC-LOCATION:Europe/Madrid
BEGIN:STANDARD
DTSTART;VALUE=DATE-TIME:20231029T020000
TZNAME:CET
TZOFFSETFROM:+0200
TZOFFSETTO:+0100
END:STANDARD
END:VTIMEZONE
END:VCALENDAR
