BEGIN:VCALENDAR
VERSION:2.0
PRODID:-//Plone.org//NONSGML plone.app.event//EN
X-WR-TIMEZONE:Europe/Madrid
BEGIN:VEVENT
SUMMARY:361º grados. Proyecto Tránsito (Andalucía)
DTSTART;TZID=Europe/Madrid;VALUE=DATE-TIME:20230622T211500
DTEND;TZID=Europe/Madrid;VALUE=DATE-TIME:20230623T210000
DTSTAMP;VALUE=DATE-TIME:20260423T063533Z
UID:d3ef310f1ca043428b3e74d72a69a544@icas.sevilla.org
CATEGORIES:Circo
CREATED;VALUE=DATE-TIME:20230523T111439Z
LAST-MODIFIED;VALUE=DATE-TIME:20231006T080525Z
LOCATION:Las Setas
URL:https://icas.sevilla.org/agenda/361o-grados-proyecto-transito-andaluci
 a
END:VEVENT
BEGIN:VTIMEZONE
TZID:Europe/Madrid
X-LIC-LOCATION:Europe/Madrid
BEGIN:DAYLIGHT
DTSTART;VALUE=DATE-TIME:20230326T030000
TZNAME:CEST
TZOFFSETFROM:+0100
TZOFFSETTO:+0200
END:DAYLIGHT
END:VTIMEZONE
END:VCALENDAR
