BEGIN:VCALENDAR
VERSION:2.0
PRODID:-//Plone.org//NONSGML plone.app.event//EN
X-WR-TIMEZONE:Europe/Madrid
BEGIN:VEVENT
SUMMARY:'Alicia'\, de Cía Teloncillo
DTSTART;TZID=Europe/Madrid;VALUE=DATE-TIME:20210207T123000
DTEND;TZID=Europe/Madrid;VALUE=DATE-TIME:20210207T133000
DTSTAMP;VALUE=DATE-TIME:20260422T133159Z
UID:8d7947e52f1740e58bacb960706e6374@icas.sevilla.org
CATEGORIES:Artes escénicas,Infantil
CREATED;VALUE=DATE-TIME:20201222T101250Z
LAST-MODIFIED;VALUE=DATE-TIME:20231006T073044Z
URL:https://icas.sevilla.org/agenda/4-feb-alicia-de-cia-teloncillo
END:VEVENT
BEGIN:VTIMEZONE
TZID:Europe/Madrid
X-LIC-LOCATION:Europe/Madrid
BEGIN:STANDARD
DTSTART;VALUE=DATE-TIME:20201025T020000
TZNAME:CET
TZOFFSETFROM:+0200
TZOFFSETTO:+0100
END:STANDARD
END:VTIMEZONE
END:VCALENDAR
