BEGIN:VCALENDAR
VERSION:2.0
PRODID:-//Plone.org//NONSGML plone.app.event//EN
X-WR-TIMEZONE:Europe/Madrid
BEGIN:VEVENT
SUMMARY:40 años de #EstiloVerino
DTSTART;TZID=Europe/Madrid;VALUE=DATE-TIME:20231027T100000
DTEND;TZID=Europe/Madrid;VALUE=DATE-TIME:20231112T140000
DTSTAMP;VALUE=DATE-TIME:20260420T032215Z
UID:6f2b57e563ac487a8d100897ac195cee@icas.sevilla.org
CATEGORIES:Exposición
CREATED;VALUE=DATE-TIME:20231023T140936Z
LAST-MODIFIED;VALUE=DATE-TIME:20231023T142114Z
URL:https://icas.sevilla.org/agenda/40-anos-de-estiloverino
END:VEVENT
BEGIN:VTIMEZONE
TZID:Europe/Madrid
X-LIC-LOCATION:Europe/Madrid
BEGIN:DAYLIGHT
DTSTART;VALUE=DATE-TIME:20230326T030000
TZNAME:CEST
TZOFFSETFROM:+0100
TZOFFSETTO:+0200
END:DAYLIGHT
BEGIN:STANDARD
DTSTART;VALUE=DATE-TIME:20231029T020000
TZNAME:CET
TZOFFSETFROM:+0200
TZOFFSETTO:+0100
END:STANDARD
END:VTIMEZONE
END:VCALENDAR
