BEGIN:VCALENDAR
VERSION:2.0
PRODID:-//Plone.org//NONSGML plone.app.event//EN
X-WR-TIMEZONE:Europe/Madrid
BEGIN:VEVENT
SUMMARY:'Alicia'\, de Cía Teloncillo
DTSTART;TZID=Europe/Madrid;VALUE=DATE-TIME:20210206T123000
DTEND;TZID=Europe/Madrid;VALUE=DATE-TIME:20210206T133000
DTSTAMP;VALUE=DATE-TIME:20260419T215623Z
UID:a3a763b634964cb38df22487ed4869d1@icas.sevilla.org
CATEGORIES:Artes escénicas,Infantil
CREATED;VALUE=DATE-TIME:20201222T101250Z
LAST-MODIFIED;VALUE=DATE-TIME:20231006T073044Z
URL:https://icas.sevilla.org/agenda/5-feb-12h-alicia-de-cia-teloncillo
END:VEVENT
BEGIN:VTIMEZONE
TZID:Europe/Madrid
X-LIC-LOCATION:Europe/Madrid
BEGIN:STANDARD
DTSTART;VALUE=DATE-TIME:20201025T020000
TZNAME:CET
TZOFFSETFROM:+0200
TZOFFSETTO:+0100
END:STANDARD
END:VTIMEZONE
END:VCALENDAR
