BEGIN:VCALENDAR
VERSION:2.0
PRODID:-//Plone.org//NONSGML plone.app.event//EN
X-WR-TIMEZONE:Europe/Madrid
BEGIN:VEVENT
SUMMARY:Actividades en las Bibliotecas
DTSTART;TZID=Europe/Madrid;VALUE=DATE-TIME:20231122T100000
DTEND;TZID=Europe/Madrid;VALUE=DATE-TIME:20231215T200000
DTSTAMP;VALUE=DATE-TIME:20260424T055437Z
UID:ada832a6c9cc4516b88a29af43f37b15@icas.sevilla.org
CREATED;VALUE=DATE-TIME:20231121T114307Z
LAST-MODIFIED;VALUE=DATE-TIME:20231121T114348Z
URL:https://icas.sevilla.org/agenda/actividades-en-las-bibliotecas
END:VEVENT
BEGIN:VTIMEZONE
TZID:Europe/Madrid
X-LIC-LOCATION:Europe/Madrid
BEGIN:STANDARD
DTSTART;VALUE=DATE-TIME:20231029T020000
TZNAME:CET
TZOFFSETFROM:+0200
TZOFFSETTO:+0100
END:STANDARD
END:VTIMEZONE
END:VCALENDAR
