BEGIN:VCALENDAR
VERSION:2.0
PRODID:-//Plone.org//NONSGML plone.app.event//EN
X-WR-TIMEZONE:Europe/Madrid
BEGIN:VEVENT
SUMMARY:'Ad Libitum'. Cía. Lapso Producciones. Sevilla
DTSTART;TZID=Europe/Madrid;VALUE=DATE-TIME:20240316T180000
DTEND;TZID=Europe/Madrid;VALUE=DATE-TIME:20240316T190000
DTSTAMP;VALUE=DATE-TIME:20260425T190913Z
UID:62336eb946204d9e8581e457079cb8ff@icas.sevilla.org
CATEGORIES:MÚSICA,música clásica
CREATED;VALUE=DATE-TIME:20231030T134720Z
DESCRIPTION:33 Ciclo el TEATRO Y LA ESCUELA
LAST-MODIFIED;VALUE=DATE-TIME:20231103T125913Z
URL:https://icas.sevilla.org/agenda/ad-libitum
END:VEVENT
BEGIN:VTIMEZONE
TZID:Europe/Madrid
X-LIC-LOCATION:Europe/Madrid
BEGIN:STANDARD
DTSTART;VALUE=DATE-TIME:20231029T020000
TZNAME:CET
TZOFFSETFROM:+0200
TZOFFSETTO:+0100
END:STANDARD
END:VTIMEZONE
END:VCALENDAR
