BEGIN:VCALENDAR
VERSION:2.0
PRODID:-//Plone.org//NONSGML plone.app.event//EN
X-WR-TIMEZONE:Europe/Madrid
BEGIN:VEVENT
SUMMARY:Agua\, Azucarillo y Aguardiente. Orquesta y solistas Compañía Se
 villana de Zarzuela
DTSTART;TZID=Europe/Madrid;VALUE=DATE-TIME:20220527T200000
DTEND;TZID=Europe/Madrid;VALUE=DATE-TIME:20220527T213000
DTSTAMP;VALUE=DATE-TIME:20260420T124743Z
UID:001e99dcbabe4687900ba03f529ca9f0@icas.sevilla.org
CREATED;VALUE=DATE-TIME:20210714T122655Z
LAST-MODIFIED;VALUE=DATE-TIME:20231006T074715Z
LOCATION:Espacio Turina
URL:https://icas.sevilla.org/agenda/agua-azucarillo-y-aguardiente-orquesta
 -y-solistas-compania-sevillana-de-zarzuela
END:VEVENT
BEGIN:VTIMEZONE
TZID:Europe/Madrid
X-LIC-LOCATION:Europe/Madrid
BEGIN:DAYLIGHT
DTSTART;VALUE=DATE-TIME:20220327T030000
TZNAME:CEST
TZOFFSETFROM:+0100
TZOFFSETTO:+0200
END:DAYLIGHT
END:VTIMEZONE
END:VCALENDAR
