BEGIN:VCALENDAR
VERSION:2.0
PRODID:-//Plone.org//NONSGML plone.app.event//EN
X-WR-TIMEZONE:Europe/Madrid
BEGIN:VEVENT
SUMMARY:Ahora Mismitos
DTSTART;TZID=Europe/Madrid;VALUE=DATE-TIME:20210713T100000
DTEND;TZID=Europe/Madrid;VALUE=DATE-TIME:20210713T110000
DTSTAMP;VALUE=DATE-TIME:20260423T140336Z
UID:8c2781eb385e42fbb9f8769f38040d10@icas.sevilla.org
CATEGORIES:Bibliotecas
CREATED;VALUE=DATE-TIME:20210608T144908Z
LAST-MODIFIED;VALUE=DATE-TIME:20231006T073659Z
LOCATION:Biblioteca Las Columnas
URL:https://icas.sevilla.org/agenda/ahora-mismitos-1
END:VEVENT
BEGIN:VTIMEZONE
TZID:Europe/Madrid
X-LIC-LOCATION:Europe/Madrid
BEGIN:DAYLIGHT
DTSTART;VALUE=DATE-TIME:20210328T030000
TZNAME:CEST
TZOFFSETFROM:+0100
TZOFFSETTO:+0200
END:DAYLIGHT
END:VTIMEZONE
END:VCALENDAR
