BEGIN:VCALENDAR
VERSION:2.0
PRODID:-//Plone.org//NONSGML plone.app.event//EN
X-WR-TIMEZONE:Europe/Madrid
BEGIN:VEVENT
SUMMARY:Al-Andalus
DTSTART;TZID=Europe/Madrid;VALUE=DATE-TIME:20220426T103000
DTEND;TZID=Europe/Madrid;VALUE=DATE-TIME:20220426T113000
DTSTAMP;VALUE=DATE-TIME:20260420T033048Z
UID:a0da70bdf1e04f0b9092dd85eeca8c81@icas.sevilla.org
CATEGORIES:Historia,Literatura
CREATED;VALUE=DATE-TIME:20220407T155307Z
LAST-MODIFIED;VALUE=DATE-TIME:20231006T075815Z
LOCATION:Biblioteca Entreparques
URL:https://icas.sevilla.org/agenda/al-andalus
END:VEVENT
BEGIN:VTIMEZONE
TZID:Europe/Madrid
X-LIC-LOCATION:Europe/Madrid
BEGIN:DAYLIGHT
DTSTART;VALUE=DATE-TIME:20220327T030000
TZNAME:CEST
TZOFFSETFROM:+0100
TZOFFSETTO:+0200
END:DAYLIGHT
END:VTIMEZONE
END:VCALENDAR
