BEGIN:VCALENDAR
VERSION:2.0
PRODID:-//Plone.org//NONSGML plone.app.event//EN
X-WR-TIMEZONE:Europe/Madrid
BEGIN:VEVENT
SUMMARY:Got Rock\, de Francis Zafrilla (Castilla La Mancha)
DTSTART;TZID=Europe/Madrid;VALUE=DATE-TIME:20210522T190000
DTEND;TZID=Europe/Madrid;VALUE=DATE-TIME:20210522T200000
DTSTAMP;VALUE=DATE-TIME:20260425T014954Z
UID:4e1bf9bdd1f44443bf9d22f7073799cd@icas.sevilla.org
CATEGORIES:Artes escénicas
CREATED;VALUE=DATE-TIME:20210428T100453Z
LAST-MODIFIED;VALUE=DATE-TIME:20231006T073633Z
LOCATION:Cortijo del Alamillo
URL:https://icas.sevilla.org/agenda/alamillo-got-rock-de-francis-zafrilla-
 castilla-la-mancha
END:VEVENT
BEGIN:VTIMEZONE
TZID:Europe/Madrid
X-LIC-LOCATION:Europe/Madrid
BEGIN:DAYLIGHT
DTSTART;VALUE=DATE-TIME:20210328T030000
TZNAME:CEST
TZOFFSETFROM:+0100
TZOFFSETTO:+0200
END:DAYLIGHT
END:VTIMEZONE
END:VCALENDAR
