BEGIN:VCALENDAR
VERSION:2.0
PRODID:-//Plone.org//NONSGML plone.app.event//EN
X-WR-TIMEZONE:Europe/Madrid
BEGIN:VEVENT
SUMMARY:Alejandro Casal
DTSTART;TZID=Europe/Madrid;VALUE=DATE-TIME:20201103T193000
DTEND;TZID=Europe/Madrid;VALUE=DATE-TIME:20201103T210000
DTSTAMP;VALUE=DATE-TIME:20260425T164316Z
UID:3b01ef3723b84c58b5b5dc25b27e5196@icas.sevilla.org
CATEGORIES:Música
CREATED;VALUE=DATE-TIME:20200925T122854Z
LAST-MODIFIED;VALUE=DATE-TIME:20231006T072557Z
LOCATION:Sala Silvio
URL:https://icas.sevilla.org/agenda/ale-casal
END:VEVENT
BEGIN:VTIMEZONE
TZID:Europe/Madrid
X-LIC-LOCATION:Europe/Madrid
BEGIN:STANDARD
DTSTART;VALUE=DATE-TIME:20201025T020000
TZNAME:CET
TZOFFSETFROM:+0200
TZOFFSETTO:+0100
END:STANDARD
END:VTIMEZONE
END:VCALENDAR
