BEGIN:VCALENDAR
VERSION:2.0
PRODID:-//Plone.org//NONSGML plone.app.event//EN
X-WR-TIMEZONE:Europe/Madrid
BEGIN:VEVENT
SUMMARY:Conferencia 'Anfiteatros en la Bética'\, por Alejandro Jiménez
DTSTART;TZID=Europe/Madrid;VALUE=DATE-TIME:20210206T120000
DTEND;TZID=Europe/Madrid;VALUE=DATE-TIME:20210206T130000
DTSTAMP;VALUE=DATE-TIME:20260422T072301Z
UID:1b2bb41394b646afa2bf6fb2209774ce@icas.sevilla.org
CATEGORIES:Patrimonio
CREATED;VALUE=DATE-TIME:20210203T121831Z
LAST-MODIFIED;VALUE=DATE-TIME:20231006T073228Z
URL:https://icas.sevilla.org/agenda/alejandro-betica
END:VEVENT
BEGIN:VTIMEZONE
TZID:Europe/Madrid
X-LIC-LOCATION:Europe/Madrid
BEGIN:STANDARD
DTSTART;VALUE=DATE-TIME:20201025T020000
TZNAME:CET
TZOFFSETFROM:+0200
TZOFFSETTO:+0100
END:STANDARD
END:VTIMEZONE
END:VCALENDAR
