BEGIN:VCALENDAR
VERSION:2.0
PRODID:-//Plone.org//NONSGML plone.app.event//EN
X-WR-TIMEZONE:Europe/Madrid
BEGIN:VEVENT
SUMMARY:Anda Bluses
DTSTART;TZID=Europe/Madrid;VALUE=DATE-TIME:20231023T150000
DTEND;TZID=Europe/Madrid;VALUE=DATE-TIME:20231023T160000
DTSTAMP;VALUE=DATE-TIME:20260423T140321Z
UID:4affef8516904d968e1dc1004804aa73@icas.sevilla.org
CATEGORIES:Música
CREATED;VALUE=DATE-TIME:20231023T131116Z
DESCRIPTION:III Ciclo de Blues. Universidad Pablo de Olavide
LAST-MODIFIED;VALUE=DATE-TIME:20231023T131633Z
URL:https://icas.sevilla.org/agenda/anda-bluses
END:VEVENT
BEGIN:VTIMEZONE
TZID:Europe/Madrid
X-LIC-LOCATION:Europe/Madrid
BEGIN:DAYLIGHT
DTSTART;VALUE=DATE-TIME:20230326T030000
TZNAME:CEST
TZOFFSETFROM:+0100
TZOFFSETTO:+0200
END:DAYLIGHT
END:VTIMEZONE
END:VCALENDAR
