BEGIN:VCALENDAR
VERSION:2.0
PRODID:-//Plone.org//NONSGML plone.app.event//EN
X-WR-TIMEZONE:Europe/Madrid
BEGIN:VEVENT
SUMMARY:Antiqvarivm. Noviembre
DTSTART;TZID=Europe/Madrid;VALUE=DATE-TIME:20231101T100000
DTEND;TZID=Europe/Madrid;VALUE=DATE-TIME:20231130T200000
DTSTAMP;VALUE=DATE-TIME:20260423T051817Z
UID:82fa4bef8f32458b9973e5086b7072be@icas.sevilla.org
CATEGORIES:Exposición,Teatro,Conferencia
CREATED;VALUE=DATE-TIME:20231103T121154Z
DESCRIPTION:Agenda del mes
LAST-MODIFIED;VALUE=DATE-TIME:20231103T123429Z
URL:https://icas.sevilla.org/agenda/antiqvarivm-noviembre
END:VEVENT
BEGIN:VTIMEZONE
TZID:Europe/Madrid
X-LIC-LOCATION:Europe/Madrid
BEGIN:STANDARD
DTSTART;VALUE=DATE-TIME:20231029T020000
TZNAME:CET
TZOFFSETFROM:+0200
TZOFFSETTO:+0100
END:STANDARD
END:VTIMEZONE
END:VCALENDAR
