BEGIN:VCALENDAR
VERSION:2.0
PRODID:-//Plone.org//NONSGML plone.app.event//EN
X-WR-TIMEZONE:Europe/Madrid
BEGIN:VEVENT
SUMMARY:Sevilla en sus letras: 'Antonio Núñez de Herrera\, 120 aniversar
 io' (14 y 15 de octubre)
DTSTART;TZID=Europe/Madrid;VALUE=DATE-TIME:20201014T200000
DTEND;TZID=Europe/Madrid;VALUE=DATE-TIME:20201015T210000
DTSTAMP;VALUE=DATE-TIME:20260420T110657Z
UID:779866d5c72549128fd8b1708c54071c@icas.sevilla.org
CREATED;VALUE=DATE-TIME:20200923T104053Z
LAST-MODIFIED;VALUE=DATE-TIME:20231006T072523Z
URL:https://icas.sevilla.org/agenda/antonio-letras-14
END:VEVENT
BEGIN:VTIMEZONE
TZID:Europe/Madrid
X-LIC-LOCATION:Europe/Madrid
BEGIN:DAYLIGHT
DTSTART;VALUE=DATE-TIME:20200329T030000
TZNAME:CEST
TZOFFSETFROM:+0100
TZOFFSETTO:+0200
END:DAYLIGHT
END:VTIMEZONE
END:VCALENDAR
