BEGIN:VCALENDAR
VERSION:2.0
PRODID:-//Plone.org//NONSGML plone.app.event//EN
X-WR-TIMEZONE:Europe/Madrid
BEGIN:VEVENT
SUMMARY:Archivo Colita
DTSTART;TZID=Europe/Madrid;VALUE=DATE-TIME:20220909T120000
DTEND;TZID=Europe/Madrid;VALUE=DATE-TIME:20221110T200000
DTSTAMP;VALUE=DATE-TIME:20260419T160311Z
UID:969ecfc7bcb549c09a334892600c8a7d@icas.sevilla.org
CATEGORIES:Exposición,Fotografía
CONTACT:http://www.labienal.com/actividades-paralelas/exposiciones/archivo
 -colita
CREATED;VALUE=DATE-TIME:20220905T103127Z
DESCRIPTION:XXII Bienal de Flamenco
LAST-MODIFIED;VALUE=DATE-TIME:20231006T080122Z
LOCATION:Sala Atín Aya. Espacio Turina
URL:https://icas.sevilla.org/agenda/archivo-colita
END:VEVENT
BEGIN:VTIMEZONE
TZID:Europe/Madrid
X-LIC-LOCATION:Europe/Madrid
BEGIN:DAYLIGHT
DTSTART;VALUE=DATE-TIME:20220327T030000
TZNAME:CEST
TZOFFSETFROM:+0100
TZOFFSETTO:+0200
END:DAYLIGHT
BEGIN:STANDARD
DTSTART;VALUE=DATE-TIME:20221030T020000
TZNAME:CET
TZOFFSETFROM:+0200
TZOFFSETTO:+0100
END:STANDARD
END:VTIMEZONE
END:VCALENDAR
