BEGIN:VCALENDAR
VERSION:2.0
PRODID:-//Plone.org//NONSGML plone.app.event//EN
X-WR-TIMEZONE:Europe/Madrid
BEGIN:VEVENT
SUMMARY:Armonica Stanza & Mariví Blasco
DTSTART;TZID=Europe/Madrid;VALUE=DATE-TIME:20230316T200000
DTEND;TZID=Europe/Madrid;VALUE=DATE-TIME:20230316T210000
DTSTAMP;VALUE=DATE-TIME:20260425T190935Z
UID:1ead72bda5b94400b4d106fa2d263f3d@icas.sevilla.org
CATEGORIES:Música Antigua
CREATED;VALUE=DATE-TIME:20230312T194610Z
DESCRIPTION:XL FeMÀS 2023
LAST-MODIFIED;VALUE=DATE-TIME:20231006T080439Z
LOCATION:San Luis de los Franceses
URL:https://icas.sevilla.org/agenda/armonica-stanza-marivi-blasco
END:VEVENT
BEGIN:VTIMEZONE
TZID:Europe/Madrid
X-LIC-LOCATION:Europe/Madrid
BEGIN:STANDARD
DTSTART;VALUE=DATE-TIME:20221030T020000
TZNAME:CET
TZOFFSETFROM:+0200
TZOFFSETTO:+0100
END:STANDARD
END:VTIMEZONE
END:VCALENDAR
