BEGIN:VCALENDAR
VERSION:2.0
PRODID:-//Plone.org//NONSGML plone.app.event//EN
X-WR-TIMEZONE:Europe/Madrid
BEGIN:VEVENT
SUMMARY:Arrecifes
DTSTART;TZID=Europe/Madrid;VALUE=DATE-TIME:20230321T180000
DTEND;TZID=Europe/Madrid;VALUE=DATE-TIME:20230321T210000
DTSTAMP;VALUE=DATE-TIME:20260420T124208Z
UID:946e1f8d5dfc4f049feb69ca4b2ebdca@icas.sevilla.org
CATEGORIES:Música,Danza
CREATED;VALUE=DATE-TIME:20230317T101113Z
LAST-MODIFIED;VALUE=DATE-TIME:20231006T080446Z
URL:https://icas.sevilla.org/agenda/arrecifes
END:VEVENT
BEGIN:VTIMEZONE
TZID:Europe/Madrid
X-LIC-LOCATION:Europe/Madrid
BEGIN:STANDARD
DTSTART;VALUE=DATE-TIME:20221030T020000
TZNAME:CET
TZOFFSETFROM:+0200
TZOFFSETTO:+0100
END:STANDARD
END:VTIMEZONE
END:VCALENDAR
