BEGIN:VCALENDAR
VERSION:2.0
PRODID:-//Plone.org//NONSGML plone.app.event//EN
X-WR-TIMEZONE:Europe/Madrid
BEGIN:VEVENT
SUMMARY:Artomático - ElectroFlamenco
DTSTART;TZID=Europe/Madrid;VALUE=DATE-TIME:20200821T220000
DTEND;TZID=Europe/Madrid;VALUE=DATE-TIME:20200821T235500
DTSTAMP;VALUE=DATE-TIME:20260422T231527Z
UID:19c3e7e0ef2e4e319d15c3b5aa16dc51@icas.sevilla.org
CATEGORIES:Música,Flamenco
CREATED;VALUE=DATE-TIME:20200806T085853Z
DESCRIPTION:ELECTROFLAMENCO es la puesta en escena del álbum debut de ART
 OMÁTICO\, músico electrónico experimental que ha abierto puertas hasta 
 ahora cerradas al flamenco. Durante la última década\, ha desarrollado u
 n modo propio de abordar el género\, demostrando que ni su esencia ni su 
 profundidad dependen de la fidelidad a estructuras canónicas. Subvirtién
 dolas mediante el procesamiento de sonidos\, ritmos y cantes con samples\,
  emuladores\, loopers\, secuenciadores\, batería\, procesadores y control
 adores.
LAST-MODIFIED;VALUE=DATE-TIME:20231006T072355Z
LOCATION:Monasterio de San Jerónimo
URL:https://icas.sevilla.org/agenda/artomatico-electroflamenco
END:VEVENT
BEGIN:VTIMEZONE
TZID:Europe/Madrid
X-LIC-LOCATION:Europe/Madrid
BEGIN:DAYLIGHT
DTSTART;VALUE=DATE-TIME:20200329T030000
TZNAME:CEST
TZOFFSETFROM:+0100
TZOFFSETTO:+0200
END:DAYLIGHT
END:VTIMEZONE
END:VCALENDAR
