BEGIN:VCALENDAR
VERSION:2.0
PRODID:-//Plone.org//NONSGML plone.app.event//EN
X-WR-TIMEZONE:Europe/Madrid
BEGIN:VEVENT
SUMMARY:Atenea
DTSTART;TZID=Europe/Madrid;VALUE=DATE-TIME:20210714T110000
DTEND;TZID=Europe/Madrid;VALUE=DATE-TIME:20210714T120000
DTSTAMP;VALUE=DATE-TIME:20260423T171804Z
UID:4c44aa0c9b454d37a0e3d7a9e6c77542@icas.sevilla.org
CATEGORIES:Bibliotecas,Infantil
CREATED;VALUE=DATE-TIME:20210608T151240Z
LAST-MODIFIED;VALUE=DATE-TIME:20231006T073708Z
LOCATION:Biblioteca Los Carteros
URL:https://icas.sevilla.org/agenda/atenea
END:VEVENT
BEGIN:VTIMEZONE
TZID:Europe/Madrid
X-LIC-LOCATION:Europe/Madrid
BEGIN:DAYLIGHT
DTSTART;VALUE=DATE-TIME:20210328T030000
TZNAME:CEST
TZOFFSETFROM:+0100
TZOFFSETTO:+0200
END:DAYLIGHT
END:VTIMEZONE
END:VCALENDAR
