BEGIN:VCALENDAR
VERSION:2.0
PRODID:-//Plone.org//NONSGML plone.app.event//EN
X-WR-TIMEZONE:Europe/Madrid
BEGIN:VEVENT
SUMMARY:Bécquer en la Biblioteca
DTSTART;VALUE=DATE:20210511
DTEND;VALUE=DATE:20210512
DTSTAMP;VALUE=DATE-TIME:20260422T052644Z
UID:e981dc7b059b4168a70b71abae33fb5e@icas.sevilla.org
CATEGORIES:Bibliotecas,Literatura
CREATED;VALUE=DATE-TIME:20210421T112606Z
LAST-MODIFIED;VALUE=DATE-TIME:20231006T073456Z
LOCATION:Biblioteca Torreblanca
URL:https://icas.sevilla.org/agenda/becquer-en-la-biblioteca
END:VEVENT
END:VCALENDAR
