BEGIN:VCALENDAR
VERSION:2.0
PRODID:-//Plone.org//NONSGML plone.app.event//EN
X-WR-TIMEZONE:Europe/Madrid
BEGIN:VEVENT
SUMMARY:Bécquer\, la vigilia del sueño (espectáculo audiovisual en la T
 orre de Don Fadrique)
DTSTART;TZID=Europe/Madrid;VALUE=DATE-TIME:20200701T223000
DTEND;TZID=Europe/Madrid;VALUE=DATE-TIME:20200801T233000
DTSTAMP;VALUE=DATE-TIME:20260422T090113Z
UID:636491578bfc423da715a56ebf424c10@icas.sevilla.org
CATEGORIES:Artes escénicas
CREATED;VALUE=DATE-TIME:20200714T074207Z
LAST-MODIFIED;VALUE=DATE-TIME:20231006T072349Z
URL:https://icas.sevilla.org/agenda/becquer-la-vigilia-del-sueno-espectacu
 lo-audiovisual-en-la-torre-de-don-fadrique
END:VEVENT
BEGIN:VTIMEZONE
TZID:Europe/Madrid
X-LIC-LOCATION:Europe/Madrid
BEGIN:DAYLIGHT
DTSTART;VALUE=DATE-TIME:20200329T030000
TZNAME:CEST
TZOFFSETFROM:+0100
TZOFFSETTO:+0200
END:DAYLIGHT
END:VTIMEZONE
END:VCALENDAR
