BEGIN:VCALENDAR
VERSION:2.0
PRODID:-//Plone.org//NONSGML plone.app.event//EN
X-WR-TIMEZONE:Europe/Madrid
BEGIN:VEVENT
SUMMARY:Concierto Beethoven II: 'Una Celebración'
DTSTART;TZID=Europe/Madrid;VALUE=DATE-TIME:20201108T120000
DTEND;TZID=Europe/Madrid;VALUE=DATE-TIME:20201108T130000
DTSTAMP;VALUE=DATE-TIME:20260421T193423Z
UID:acc1f29ad2dd4977af5ef5f1ad27a3db@icas.sevilla.org
CATEGORIES:Música
CREATED;VALUE=DATE-TIME:20200924T114914Z
LAST-MODIFIED;VALUE=DATE-TIME:20231006T072528Z
LOCATION:Sala Silvio
URL:https://icas.sevilla.org/agenda/beethoven-celebracion
END:VEVENT
BEGIN:VTIMEZONE
TZID:Europe/Madrid
X-LIC-LOCATION:Europe/Madrid
BEGIN:STANDARD
DTSTART;VALUE=DATE-TIME:20201025T020000
TZNAME:CET
TZOFFSETFROM:+0200
TZOFFSETTO:+0100
END:STANDARD
END:VTIMEZONE
END:VCALENDAR
