BEGIN:VCALENDAR
VERSION:2.0
PRODID:-//Plone.org//NONSGML plone.app.event//EN
X-WR-TIMEZONE:Europe/Madrid
BEGIN:VEVENT
SUMMARY:Beethoven III: 'Haydn\, el joven Beethoven y otros tríos del impr
 esionismo al jazz'
DTSTART;TZID=Europe/Madrid;VALUE=DATE-TIME:20201122T120000
DTEND;TZID=Europe/Madrid;VALUE=DATE-TIME:20201122T130000
DTSTAMP;VALUE=DATE-TIME:20260425T222328Z
UID:151344d7f28046f5be1c1a301e0cb160@icas.sevilla.org
CREATED;VALUE=DATE-TIME:20200924T115159Z
LAST-MODIFIED;VALUE=DATE-TIME:20231006T072528Z
LOCATION:Sala Silvio
URL:https://icas.sevilla.org/agenda/beethoven-iii-haydn-el-joven-beethoven
 -y-otros-trios-del-impresionismo-al-jazz
END:VEVENT
BEGIN:VTIMEZONE
TZID:Europe/Madrid
X-LIC-LOCATION:Europe/Madrid
BEGIN:STANDARD
DTSTART;VALUE=DATE-TIME:20201025T020000
TZNAME:CET
TZOFFSETFROM:+0200
TZOFFSETTO:+0100
END:STANDARD
END:VTIMEZONE
END:VCALENDAR
