BEGIN:VCALENDAR
VERSION:2.0
PRODID:-//Plone.org//NONSGML plone.app.event//EN
X-WR-TIMEZONE:Europe/Madrid
BEGIN:VEVENT
SUMMARY:Biocuentos: la ciudad de los árboles / Objetivo 11. Ciudades y co
 munidades sostenibles
DTSTART;TZID=Europe/Madrid;VALUE=DATE-TIME:20210701T110000
DTEND;TZID=Europe/Madrid;VALUE=DATE-TIME:20210701T120000
DTSTAMP;VALUE=DATE-TIME:20260423T141943Z
UID:73461fdba57e4268924a53a265f1d249@icas.sevilla.org
CATEGORIES:Bibliotecas,Infantil
CREATED;VALUE=DATE-TIME:20210608T122024Z
LAST-MODIFIED;VALUE=DATE-TIME:20231006T073638Z
LOCATION:Biblioteca Blas Infante
URL:https://icas.sevilla.org/agenda/biocuentos-la-ciudad-de-los-arboles
END:VEVENT
BEGIN:VTIMEZONE
TZID:Europe/Madrid
X-LIC-LOCATION:Europe/Madrid
BEGIN:DAYLIGHT
DTSTART;VALUE=DATE-TIME:20210328T030000
TZNAME:CEST
TZOFFSETFROM:+0100
TZOFFSETTO:+0200
END:DAYLIGHT
END:VTIMEZONE
END:VCALENDAR
