BEGIN:VCALENDAR
VERSION:2.0
PRODID:-//Plone.org//NONSGML plone.app.event//EN
X-WR-TIMEZONE:Europe/Madrid
BEGIN:VEVENT
SUMMARY:Biocuentos
DTSTART;TZID=Europe/Madrid;VALUE=DATE-TIME:20210713T103000
DTEND;TZID=Europe/Madrid;VALUE=DATE-TIME:20210713T113000
DTSTAMP;VALUE=DATE-TIME:20260421T153429Z
UID:c366fb82dea64e3ba10ce9c7199d4201@icas.sevilla.org
CATEGORIES:Bibliotecas,Infantil
CREATED;VALUE=DATE-TIME:20210608T140443Z
LAST-MODIFIED;VALUE=DATE-TIME:20231006T073645Z
LOCATION:Biblioteca Entreparques
URL:https://icas.sevilla.org/agenda/biocuentos
END:VEVENT
BEGIN:VTIMEZONE
TZID:Europe/Madrid
X-LIC-LOCATION:Europe/Madrid
BEGIN:DAYLIGHT
DTSTART;VALUE=DATE-TIME:20210328T030000
TZNAME:CEST
TZOFFSETFROM:+0100
TZOFFSETTO:+0200
END:DAYLIGHT
END:VTIMEZONE
END:VCALENDAR
