BEGIN:VCALENDAR
VERSION:2.0
PRODID:-//Plone.org//NONSGML plone.app.event//EN
X-WR-TIMEZONE:Europe/Madrid
BEGIN:VEVENT
SUMMARY:Burlas de Amor de Doña Barroco. Corral de Comedias
DTSTART;TZID=Europe/Madrid;VALUE=DATE-TIME:20220712T220000
DTEND;TZID=Europe/Madrid;VALUE=DATE-TIME:20220713T000000
DTSTAMP;VALUE=DATE-TIME:20260420T123011Z
UID:b115ed99e9cd415a8447a8cc92857811@icas.sevilla.org
CREATED;VALUE=DATE-TIME:20220711T083205Z
LAST-MODIFIED;VALUE=DATE-TIME:20231006T080037Z
URL:https://icas.sevilla.org/agenda/burlas-de-amor-de-dona-barroco-corral-
 de-comedias
END:VEVENT
BEGIN:VTIMEZONE
TZID:Europe/Madrid
X-LIC-LOCATION:Europe/Madrid
BEGIN:DAYLIGHT
DTSTART;VALUE=DATE-TIME:20220327T030000
TZNAME:CEST
TZOFFSETFROM:+0100
TZOFFSETTO:+0200
END:DAYLIGHT
END:VTIMEZONE
END:VCALENDAR
