BEGIN:VCALENDAR
VERSION:2.0
PRODID:-//Plone.org//NONSGML plone.app.event//EN
X-WR-TIMEZONE:Europe/Madrid
BEGIN:VEVENT
SUMMARY:Caldo y cultivo de la columna de opinión
DTSTART;TZID=Europe/Madrid;VALUE=DATE-TIME:20210513T190000
DTEND;TZID=Europe/Madrid;VALUE=DATE-TIME:20210513T200000
DTSTAMP;VALUE=DATE-TIME:20260423T103200Z
UID:cc52dca354ef4e2abe78058daf4bf714@icas.sevilla.org
CATEGORIES:Literatura
CREATED;VALUE=DATE-TIME:20210427T140059Z
LAST-MODIFIED;VALUE=DATE-TIME:20231006T073556Z
URL:https://icas.sevilla.org/agenda/caldo-y-cultivo-de-la-columna-de-opini
 on
END:VEVENT
BEGIN:VTIMEZONE
TZID:Europe/Madrid
X-LIC-LOCATION:Europe/Madrid
BEGIN:DAYLIGHT
DTSTART;VALUE=DATE-TIME:20210328T030000
TZNAME:CEST
TZOFFSETFROM:+0100
TZOFFSETTO:+0200
END:DAYLIGHT
END:VTIMEZONE
END:VCALENDAR
