BEGIN:VCALENDAR
VERSION:2.0
PRODID:-//Plone.org//NONSGML plone.app.event//EN
X-WR-TIMEZONE:Europe/Madrid
BEGIN:VEVENT
SUMMARY:Calle Cultura. Distrito Este-Alcosa-Torreblanca
DTSTART;TZID=Europe/Madrid;VALUE=DATE-TIME:20230226T110000
DTEND;TZID=Europe/Madrid;VALUE=DATE-TIME:20230226T140000
DTSTAMP;VALUE=DATE-TIME:20260422T232537Z
UID:4c7bdb2bd2cd4f60a38d57022f89a5f4@icas.sevilla.org
CREATED;VALUE=DATE-TIME:20230222T114503Z
LAST-MODIFIED;VALUE=DATE-TIME:20231006T080329Z
LOCATION:Avenida de las Ciencias (entre las calles Flor de gitanilla y Flo
 r de salvia)
URL:https://icas.sevilla.org/agenda/calle-cultura-distrito-este-alcosa-tor
 reblanca
END:VEVENT
BEGIN:VTIMEZONE
TZID:Europe/Madrid
X-LIC-LOCATION:Europe/Madrid
BEGIN:STANDARD
DTSTART;VALUE=DATE-TIME:20221030T020000
TZNAME:CET
TZOFFSETFROM:+0200
TZOFFSETTO:+0100
END:STANDARD
END:VTIMEZONE
END:VCALENDAR
