BEGIN:VCALENDAR
VERSION:2.0
PRODID:-//Plone.org//NONSGML plone.app.event//EN
X-WR-TIMEZONE:Europe/Madrid
BEGIN:VEVENT
SUMMARY:'Calle Cultura' en Paseo de Colón
DTSTART;TZID=Europe/Madrid;VALUE=DATE-TIME:20220327T110000
DTEND;TZID=Europe/Madrid;VALUE=DATE-TIME:20220327T140000
DTSTAMP;VALUE=DATE-TIME:20260421T110428Z
UID:03bf3462544244ef9f382bb22dda8ccd@icas.sevilla.org
CATEGORIES:Intervenciones,Artesanía,Talleres,Música
CREATED;VALUE=DATE-TIME:20220324T065945Z
LAST-MODIFIED;VALUE=DATE-TIME:20231006T075716Z
LOCATION:Paseo de Colón
URL:https://icas.sevilla.org/agenda/calle-cultura-en-el-paseo-de-colon
END:VEVENT
BEGIN:VTIMEZONE
TZID:Europe/Madrid
X-LIC-LOCATION:Europe/Madrid
BEGIN:DAYLIGHT
DTSTART;VALUE=DATE-TIME:20220327T030000
TZNAME:CEST
TZOFFSETFROM:+0100
TZOFFSETTO:+0200
END:DAYLIGHT
END:VTIMEZONE
END:VCALENDAR
