BEGIN:VCALENDAR
VERSION:2.0
PRODID:-//Plone.org//NONSGML plone.app.event//EN
X-WR-TIMEZONE:Europe/Madrid
BEGIN:VEVENT
SUMMARY:Presentación del libro 'Cambiar la vida\, cambiar la historia'\, 
 la colección de los artículos de Manuel Vázquez Montalbán
DTSTART;TZID=Europe/Madrid;VALUE=DATE-TIME:20210220T120000
DTEND;TZID=Europe/Madrid;VALUE=DATE-TIME:20210220T130000
DTSTAMP;VALUE=DATE-TIME:20260422T231742Z
UID:9c5871f1ae814d1194bb10bda97ccfb1@icas.sevilla.org
CATEGORIES:Literatura
CREATED;VALUE=DATE-TIME:20210203T132749Z
LAST-MODIFIED;VALUE=DATE-TIME:20231006T073230Z
URL:https://icas.sevilla.org/agenda/cambiar-montalban
END:VEVENT
BEGIN:VTIMEZONE
TZID:Europe/Madrid
X-LIC-LOCATION:Europe/Madrid
BEGIN:STANDARD
DTSTART;VALUE=DATE-TIME:20201025T020000
TZNAME:CET
TZOFFSETFROM:+0200
TZOFFSETTO:+0100
END:STANDARD
END:VTIMEZONE
END:VCALENDAR
