BEGIN:VCALENDAR
VERSION:2.0
PRODID:-//Plone.org//NONSGML plone.app.event//EN
X-WR-TIMEZONE:Europe/Madrid
BEGIN:VEVENT
SUMMARY:Cantares de ciego
DTSTART;TZID=Europe/Madrid;VALUE=DATE-TIME:20210712T100000
DTEND;TZID=Europe/Madrid;VALUE=DATE-TIME:20210712T110000
DTSTAMP;VALUE=DATE-TIME:20260422T181306Z
UID:c132d7f748e94220a2039df2c26e1877@icas.sevilla.org
CATEGORIES:Bibliotecas
CREATED;VALUE=DATE-TIME:20210608T144704Z
LAST-MODIFIED;VALUE=DATE-TIME:20231006T073658Z
LOCATION:Biblioteca Las Columnas
URL:https://icas.sevilla.org/agenda/cantares-de-ciego
END:VEVENT
BEGIN:VTIMEZONE
TZID:Europe/Madrid
X-LIC-LOCATION:Europe/Madrid
BEGIN:DAYLIGHT
DTSTART;VALUE=DATE-TIME:20210328T030000
TZNAME:CEST
TZOFFSETFROM:+0100
TZOFFSETTO:+0200
END:DAYLIGHT
END:VTIMEZONE
END:VCALENDAR
