BEGIN:VCALENDAR
VERSION:2.0
PRODID:-//Plone.org//NONSGML plone.app.event//EN
X-WR-TIMEZONE:Europe/Madrid
BEGIN:VEVENT
SUMMARY:Carmina Terrarum (concierto de música renacentista). Distrito Lo
 s Remedios
DTSTART;TZID=Europe/Madrid;VALUE=DATE-TIME:20220907T213000
DTEND;TZID=Europe/Madrid;VALUE=DATE-TIME:20220907T223000
DTSTAMP;VALUE=DATE-TIME:20260421T090754Z
UID:51ce26becfbc4ff4bc03be2ea49d1025@icas.sevilla.org
CATEGORIES:Música
CREATED;VALUE=DATE-TIME:20220810T055329Z
DESCRIPTION:Veraneo en la City
LAST-MODIFIED;VALUE=DATE-TIME:20231006T080110Z
LOCATION:C/ Asunción
URL:https://icas.sevilla.org/agenda/carmina-terrarum-concierto-de-musica-r
 enacentista-distrito-los-remedios
END:VEVENT
BEGIN:VTIMEZONE
TZID:Europe/Madrid
X-LIC-LOCATION:Europe/Madrid
BEGIN:DAYLIGHT
DTSTART;VALUE=DATE-TIME:20220327T030000
TZNAME:CEST
TZOFFSETFROM:+0100
TZOFFSETTO:+0200
END:DAYLIGHT
END:VTIMEZONE
END:VCALENDAR
