BEGIN:VCALENDAR
VERSION:2.0
PRODID:-//Plone.org//NONSGML plone.app.event//EN
X-WR-TIMEZONE:Europe/Madrid
BEGIN:VEVENT
SUMMARY:Cuentacuentos: 'Cuentos de mazapán'
DTSTART;TZID=Europe/Madrid;VALUE=DATE-TIME:20201229T123000
DTEND;TZID=Europe/Madrid;VALUE=DATE-TIME:20201229T133000
DTSTAMP;VALUE=DATE-TIME:20260419T143521Z
UID:471dd02150e84d05b27a8eadbe770918@icas.sevilla.org
CREATED;VALUE=DATE-TIME:20201216T104527Z
LAST-MODIFIED;VALUE=DATE-TIME:20231006T073001Z
LOCATION:Biblioteca Los Carteros
URL:https://icas.sevilla.org/agenda/carteros-cuentos-mazapan
END:VEVENT
BEGIN:VTIMEZONE
TZID:Europe/Madrid
X-LIC-LOCATION:Europe/Madrid
BEGIN:STANDARD
DTSTART;VALUE=DATE-TIME:20201025T020000
TZNAME:CET
TZOFFSETFROM:+0200
TZOFFSETTO:+0100
END:STANDARD
END:VTIMEZONE
END:VCALENDAR
