BEGIN:VCALENDAR
VERSION:2.0
PRODID:-//Plone.org//NONSGML plone.app.event//EN
X-WR-TIMEZONE:Europe/Madrid
BEGIN:VEVENT
SUMMARY:Cuentacuentos: 'Cuentos de mazapán'
DTSTART;TZID=Europe/Madrid;VALUE=DATE-TIME:20201230T110000
DTEND;TZID=Europe/Madrid;VALUE=DATE-TIME:20201230T120000
DTSTAMP;VALUE=DATE-TIME:20260424T192024Z
UID:e9d02a331b9546f1801dc9c1293fca08@icas.sevilla.org
CREATED;VALUE=DATE-TIME:20201216T104527Z
LAST-MODIFIED;VALUE=DATE-TIME:20231006T073002Z
LOCATION:Biblioteca Luis Cernuda
URL:https://icas.sevilla.org/agenda/cernuda-cuentos-mazapan
END:VEVENT
BEGIN:VTIMEZONE
TZID:Europe/Madrid
X-LIC-LOCATION:Europe/Madrid
BEGIN:STANDARD
DTSTART;VALUE=DATE-TIME:20201025T020000
TZNAME:CET
TZOFFSETFROM:+0200
TZOFFSETTO:+0100
END:STANDARD
END:VTIMEZONE
END:VCALENDAR
