BEGIN:VCALENDAR
VERSION:2.0
PRODID:-//Plone.org//NONSGML plone.app.event//EN
X-WR-TIMEZONE:Europe/Madrid
BEGIN:VEVENT
SUMMARY:Chaika\, de la Cía. Belova-Iacobelli (Bélgica - Chile)
DTSTART;TZID=Europe/Madrid;VALUE=DATE-TIME:20210520T190000
DTEND;TZID=Europe/Madrid;VALUE=DATE-TIME:20210520T200000
DTSTAMP;VALUE=DATE-TIME:20260422T132944Z
UID:2428a372887d448c8be132a442364ba6@icas.sevilla.org
CATEGORIES:Artes escénicas
CREATED;VALUE=DATE-TIME:20210428T100021Z
DESCRIPTION:PREMIOS al Mejor Espectáculo y Mejor Actriz 2018 por el Círc
 ulo de Críticos de Arte de Chile\nPREMIO a la Mejor Puesta en Escena\, po
 r votación popular\, en los Premios Clap. Chile
LAST-MODIFIED;VALUE=DATE-TIME:20231006T073605Z
URL:https://icas.sevilla.org/agenda/chaika-de-la-cia-belova-iacobelli
END:VEVENT
BEGIN:VTIMEZONE
TZID:Europe/Madrid
X-LIC-LOCATION:Europe/Madrid
BEGIN:DAYLIGHT
DTSTART;VALUE=DATE-TIME:20210328T030000
TZNAME:CEST
TZOFFSETFROM:+0100
TZOFFSETTO:+0200
END:DAYLIGHT
END:VTIMEZONE
END:VCALENDAR
