BEGIN:VCALENDAR
VERSION:2.0
PRODID:-//Plone.org//NONSGML plone.app.event//EN
X-WR-TIMEZONE:Europe/Madrid
BEGIN:VEVENT
SUMMARY:Cristina Hall & Cía. Tripolar
DTSTART;TZID=Europe/Madrid;VALUE=DATE-TIME:20200929T220000
DTEND;TZID=Europe/Madrid;VALUE=DATE-TIME:20200929T230000
DTSTAMP;VALUE=DATE-TIME:20260420T021749Z
UID:4c40836d61b34f318c515ee00accb547@icas.sevilla.org
CATEGORIES:Danza
CREATED;VALUE=DATE-TIME:20200910T090445Z
LAST-MODIFIED;VALUE=DATE-TIME:20231006T072409Z
LOCATION:Espacio Santa Clara
URL:https://icas.sevilla.org/agenda/cia-tripolar-20
END:VEVENT
BEGIN:VTIMEZONE
TZID:Europe/Madrid
X-LIC-LOCATION:Europe/Madrid
BEGIN:DAYLIGHT
DTSTART;VALUE=DATE-TIME:20200329T030000
TZNAME:CEST
TZOFFSETFROM:+0100
TZOFFSETTO:+0200
END:DAYLIGHT
END:VTIMEZONE
END:VCALENDAR
