BEGIN:VCALENDAR
VERSION:2.0
PRODID:-//Plone.org//NONSGML plone.app.event//EN
X-WR-TIMEZONE:Europe/Madrid
BEGIN:VEVENT
SUMMARY:Ciclo Danza Sevilla
DTSTART;VALUE=DATE:20260418
DTEND;VALUE=DATE:20260601
DTSTAMP;VALUE=DATE-TIME:20260420T135112Z
UID:45fb117088df409cb286cb5b70c697db@icas.sevilla.org
CATEGORIES:danza
CREATED;VALUE=DATE-TIME:20260420T073636Z
LAST-MODIFIED;VALUE=DATE-TIME:20260420T073802Z
URL:https://icas.sevilla.org/agenda/ciclo-danza-sevilla-1
END:VEVENT
END:VCALENDAR
