BEGIN:VCALENDAR
VERSION:2.0
PRODID:-//Plone.org//NONSGML plone.app.event//EN
X-WR-TIMEZONE:Europe/Madrid
BEGIN:VEVENT
SUMMARY:Ciclo de conferencias: 'Las flores en el arte: Las flores en la pi
 ntura costumbrista del siglo XIX: patios\, jardines\, orillas'
DTSTART;TZID=Europe/Madrid;VALUE=DATE-TIME:20210526T100000
DTEND;TZID=Europe/Madrid;VALUE=DATE-TIME:20210526T110000
DTSTAMP;VALUE=DATE-TIME:20260423T042504Z
UID:1795c3b9c3b143798b4c7ececc7edf33@icas.sevilla.org
CATEGORIES:Bibliotecas,Literatura
CREATED;VALUE=DATE-TIME:20210419T123534Z
LAST-MODIFIED;VALUE=DATE-TIME:20231006T073410Z
LOCATION:Biblioteca Felipe González
URL:https://icas.sevilla.org/agenda/ciclo-de-conferencias-las-flores-en-el
 -arte-las-flores-en-la-pintura-costumbrista-del-siglo-xix-patios-jardines-
 orillas
END:VEVENT
BEGIN:VTIMEZONE
TZID:Europe/Madrid
X-LIC-LOCATION:Europe/Madrid
BEGIN:DAYLIGHT
DTSTART;VALUE=DATE-TIME:20210328T030000
TZNAME:CEST
TZOFFSETFROM:+0100
TZOFFSETTO:+0200
END:DAYLIGHT
END:VTIMEZONE
END:VCALENDAR
