BEGIN:VCALENDAR
VERSION:2.0
PRODID:-//Plone.org//NONSGML plone.app.event//EN
X-WR-TIMEZONE:Europe/Madrid
BEGIN:VEVENT
SUMMARY:Ciclo de conferencias: Los libros son para vivirlos. La lectura co
 mo vínculo transcendental
DTSTART;TZID=Europe/Madrid;VALUE=DATE-TIME:20210512T110000
DTEND;TZID=Europe/Madrid;VALUE=DATE-TIME:20210512T120000
DTSTAMP;VALUE=DATE-TIME:20260425T191359Z
UID:b19f6f644f3d433ca7b93f3f3ec7de23@icas.sevilla.org
CATEGORIES:Bibliotecas,Literatura
CREATED;VALUE=DATE-TIME:20210419T124524Z
LAST-MODIFIED;VALUE=DATE-TIME:20231006T073413Z
LOCATION:Biblioteca Julia Uceda
URL:https://icas.sevilla.org/agenda/ciclo-de-conferencias-los-libros-son-p
 ara-vivirlos-la-lectura-como-vinculo-transcendental
END:VEVENT
BEGIN:VTIMEZONE
TZID:Europe/Madrid
X-LIC-LOCATION:Europe/Madrid
BEGIN:DAYLIGHT
DTSTART;VALUE=DATE-TIME:20210328T030000
TZNAME:CEST
TZOFFSETFROM:+0100
TZOFFSETTO:+0200
END:DAYLIGHT
END:VTIMEZONE
END:VCALENDAR
